Package: STATegRa Version: 1.36.0 Command: rm -rf STATegRa.buildbin-libdir && mkdir STATegRa.buildbin-libdir && /Users/biocbuild/BBS/utils/build-universal.sh STATegRa_1.36.0.tar.gz /Library/Frameworks/R.framework/Resources/bin/R STATegRa.buildbin-libdir StartedAt: 2023-10-19 17:36:28 -0400 (Thu, 19 Oct 2023) EndedAt: 2023-10-19 17:37:06 -0400 (Thu, 19 Oct 2023) EllapsedTime: 37.4 seconds RetCode: 0 Status: OK PackageFile: STATegRa_1.36.0.tgz PackageFileSize: 4.588 MiB