Package: Rtreemix Version: 1.62.0 Command: /Library/Frameworks/R.framework/Resources/bin/R CMD INSTALL Rtreemix StartedAt: 2023-10-15 17:32:32 -0400 (Sun, 15 Oct 2023) EndedAt: 2023-10-15 17:34:08 -0400 (Sun, 15 Oct 2023) EllapsedTime: 95.5 seconds RetCode: 0 Status: OK