Package: Rtreemix Version: 1.62.0 Command: /Library/Frameworks/R.framework/Resources/bin/R CMD build --keep-empty-dirs --no-resave-data Rtreemix StartedAt: 2023-10-16 17:42:59 -0400 (Mon, 16 Oct 2023) EndedAt: 2023-10-16 17:44:52 -0400 (Mon, 16 Oct 2023) EllapsedTime: 113.2 seconds RetCode: 0 Status: OK PackageFile: Rtreemix_1.62.0.tar.gz PackageFileSize: 883.6 KiB