Package: Rbowtie Version: 1.40.0 Command: /Library/Frameworks/R.framework/Resources/bin/R CMD build --keep-empty-dirs --no-resave-data Rbowtie StartedAt: 2023-10-16 15:56:24 -0400 (Mon, 16 Oct 2023) EndedAt: 2023-10-16 15:59:22 -0400 (Mon, 16 Oct 2023) EllapsedTime: 177.5 seconds RetCode: 0 Status: OK PackageFile: Rbowtie_1.40.0.tar.gz PackageFileSize: 4.955 MiB