Package: Prostar Version: 1.32.6 Command: /Library/Frameworks/R.framework/Resources/bin/R CMD build --keep-empty-dirs --no-resave-data Prostar StartedAt: 2023-10-16 14:58:42 -0400 (Mon, 16 Oct 2023) EndedAt: 2023-10-16 15:00:02 -0400 (Mon, 16 Oct 2023) EllapsedTime: 80.2 seconds RetCode: 0 Status: OK PackageFile: Prostar_1.32.6.tar.gz PackageFileSize: 5.536 MiB