Package: NoRCE Version: 1.12.0 Command: /Library/Frameworks/R.framework/Resources/bin/R CMD check --install=check:NoRCE.install-out.txt --library=/Library/Frameworks/R.framework/Resources/library --no-vignettes --timings NoRCE_1.12.0.tar.gz StartedAt: 2023-10-18 11:41:27 -0400 (Wed, 18 Oct 2023) EndedAt: 2023-10-18 11:49:10 -0400 (Wed, 18 Oct 2023) EllapsedTime: 463.6 seconds RetCode: 0 Status: OK CheckDir: NoRCE.Rcheck Warnings: 0