Package: NoRCE Version: 1.12.0 Command: rm -rf NoRCE.buildbin-libdir && mkdir NoRCE.buildbin-libdir && /Users/biocbuild/BBS/utils/build-universal.sh NoRCE_1.12.0.tar.gz /Library/Frameworks/R.framework/Resources/bin/R NoRCE.buildbin-libdir StartedAt: 2023-10-19 15:30:05 -0400 (Thu, 19 Oct 2023) EndedAt: 2023-10-19 15:31:50 -0400 (Thu, 19 Oct 2023) EllapsedTime: 104.5 seconds RetCode: 0 Status: OK PackageFile: NoRCE_1.12.0.tgz PackageFileSize: 2.36 MiB