Package: MiChip Version: 1.54.0 Command: rm -rf MiChip.buildbin-libdir && mkdir MiChip.buildbin-libdir && /Users/biocbuild/BBS/utils/build-universal.sh MiChip_1.54.0.tar.gz /Library/Frameworks/R.framework/Resources/bin/R MiChip.buildbin-libdir StartedAt: 2023-10-19 14:53:00 -0400 (Thu, 19 Oct 2023) EndedAt: 2023-10-19 14:53:09 -0400 (Thu, 19 Oct 2023) EllapsedTime: 8.7 seconds RetCode: 0 Status: OK PackageFile: MiChip_1.54.0.tgz PackageFileSize: 699.2 KiB