Package: Informeasure Version: 1.10.0 Command: /Library/Frameworks/R.framework/Resources/bin/R CMD check --install=check:Informeasure.install-out.txt --library=/Library/Frameworks/R.framework/Resources/library --no-vignettes --timings Informeasure_1.10.0.tar.gz StartedAt: 2023-10-18 02:04:10 -0400 (Wed, 18 Oct 2023) EndedAt: 2023-10-18 02:04:50 -0400 (Wed, 18 Oct 2023) EllapsedTime: 40.3 seconds RetCode: 0 Status: OK CheckDir: Informeasure.Rcheck Warnings: 0