Package: INPower Version: 1.36.0 Command: /Library/Frameworks/R.framework/Resources/bin/R CMD build --keep-empty-dirs --no-resave-data INPower StartedAt: 2023-10-16 06:54:56 -0400 (Mon, 16 Oct 2023) EndedAt: 2023-10-16 06:55:13 -0400 (Mon, 16 Oct 2023) EllapsedTime: 16.4 seconds RetCode: 0 Status: OK PackageFile: INPower_1.36.0.tar.gz PackageFileSize: 146.9 KiB