Package: GPA Version: 1.12.0 Command: /Library/Frameworks/R.framework/Resources/bin/R CMD check --install=check:GPA.install-out.txt --library=/Library/Frameworks/R.framework/Resources/library --no-vignettes --timings GPA_1.12.0.tar.gz StartedAt: 2023-10-17 23:20:50 -0400 (Tue, 17 Oct 2023) EndedAt: 2023-10-17 23:22:59 -0400 (Tue, 17 Oct 2023) EllapsedTime: 128.5 seconds RetCode: 0 Status: OK CheckDir: GPA.Rcheck Warnings: 0