Package: GEOquery Version: 2.68.0 Command: rm -rf GEOquery.buildbin-libdir && mkdir GEOquery.buildbin-libdir && /Users/biocbuild/BBS/utils/build-universal.sh GEOquery_2.68.0.tar.gz /Library/Frameworks/R.framework/Resources/bin/R GEOquery.buildbin-libdir StartedAt: 2023-10-19 13:42:47 -0400 (Thu, 19 Oct 2023) EndedAt: 2023-10-19 13:43:10 -0400 (Thu, 19 Oct 2023) EllapsedTime: 23.3 seconds RetCode: 0 Status: OK PackageFile: GEOquery_2.68.0.tgz PackageFileSize: 13.27 MiB