Package: GEM Version: 1.26.0 Command: /Library/Frameworks/R.framework/Resources/bin/R CMD build --keep-empty-dirs --no-resave-data GEM StartedAt: 2023-10-16 03:54:13 -0400 (Mon, 16 Oct 2023) EndedAt: 2023-10-16 03:54:40 -0400 (Mon, 16 Oct 2023) EllapsedTime: 26.5 seconds RetCode: 0 Status: OK PackageFile: GEM_1.26.0.tar.gz PackageFileSize: 613.1 KiB