Package: FlowSOM Version: 2.8.0 Command: rm -rf FlowSOM.buildbin-libdir && mkdir FlowSOM.buildbin-libdir && /Users/biocbuild/BBS/utils/build-universal.sh FlowSOM_2.8.0.tar.gz /Library/Frameworks/R.framework/Resources/bin/R FlowSOM.buildbin-libdir StartedAt: 2023-10-19 13:25:34 -0400 (Thu, 19 Oct 2023) EndedAt: 2023-10-19 13:26:16 -0400 (Thu, 19 Oct 2023) EllapsedTime: 41.7 seconds RetCode: 0 Status: OK PackageFile: FlowSOM_2.8.0.tgz PackageFileSize: 6.112 MiB