Package: DMRScan Version: 1.22.0 Command: /Library/Frameworks/R.framework/Resources/bin/R CMD INSTALL DMRScan StartedAt: 2023-10-15 15:27:24 -0400 (Sun, 15 Oct 2023) EndedAt: 2023-10-15 15:28:00 -0400 (Sun, 15 Oct 2023) EllapsedTime: 35.4 seconds RetCode: 0 Status: OK