Package: BiocBaseUtils Version: 1.2.0 Command: /Library/Frameworks/R.framework/Resources/bin/R CMD check --install=check:BiocBaseUtils.install-out.txt --library=/Library/Frameworks/R.framework/Resources/library --no-vignettes --timings BiocBaseUtils_1.2.0.tar.gz StartedAt: 2023-10-17 05:19:46 -0400 (Tue, 17 Oct 2023) EndedAt: 2023-10-17 05:20:24 -0400 (Tue, 17 Oct 2023) EllapsedTime: 38.2 seconds RetCode: 0 Status: OK CheckDir: BiocBaseUtils.Rcheck Warnings: 0