Package: BiocBaseUtils Version: 1.2.0 Command: /Library/Frameworks/R.framework/Resources/bin/R CMD build --keep-empty-dirs --no-resave-data BiocBaseUtils StartedAt: 2023-10-15 21:51:12 -0400 (Sun, 15 Oct 2023) EndedAt: 2023-10-15 21:51:18 -0400 (Sun, 15 Oct 2023) EllapsedTime: 5.4 seconds RetCode: 0 Status: OK PackageFile: BiocBaseUtils_1.2.0.tar.gz PackageFileSize: 222.5 KiB