Package: zellkonverter Version: 1.10.1 Command: /Library/Frameworks/R.framework/Resources/bin/R CMD build --keep-empty-dirs --no-resave-data --no-build-vignettes --no-manual zellkonverter StartedAt: 2023-10-14 11:01:58 -0400 (Sat, 14 Oct 2023) EndedAt: 2023-10-14 11:02:36 -0400 (Sat, 14 Oct 2023) EllapsedTime: 37.8 seconds RetCode: 0 Status: OK PackageFile: zellkonverter_1.10.1.tar.gz PackageFileSize: 867.2 KiB