See here for how to subscribe to these builds.
This page was generated on 2023-10-14 21:30:02 -0400 (Sat, 14 Oct 2023).
|
| Hostname | OS | Arch (*) | R version | Installed pkgs |
|---|---|---|---|---|
| nebbiolo1 | Linux (Ubuntu 22.04.2 LTS) | x86_64 | 4.3.1 (2023-06-16) -- "Beagle Scouts" | 4626 |
| palomino3 | Windows Server 2022 Datacenter | x64 | 4.3.1 (2023-06-16 ucrt) -- "Beagle Scouts" | 4379 |
| merida1 | macOS 12.6.4 Monterey | x86_64 | 4.3.1 (2023-06-16) -- "Beagle Scouts" | 4395 |
| Click on any hostname to see more info about the system (e.g. compilers) (*) as reported by 'uname -p', except on Windows and Mac OS X | ||||
| QUICK STATS | OS / Arch | CHECK | |||||||
| nebbiolo1 | Linux (Ubuntu 22.04.2 LTS) / x86_64 |
| |||||||
| palomino3 | Windows Server 2022 Datacenter / x64 |
| |||||||
| merida1 | macOS 12.6.4 Monterey / x86_64 |
| |||||||
| Package 1/31 | Hostname | OS / Arch | CHECK | ||||||
| APAlyzer 1.14.0 (landing page) Ruijia Wang
| nebbiolo1 | Linux (Ubuntu 22.04.2 LTS) / x86_64 | ERROR | ||||||
| palomino3 | Windows Server 2022 Datacenter / x64 | ERROR | |||||||
| merida1 | macOS 12.6.4 Monterey / x86_64 | ERROR | |||||||
| Package 2/31 | Hostname | OS / Arch | CHECK | ||||||
| autonomics 1.8.0 (landing page) Aditya Bhagwat
| nebbiolo1 | Linux (Ubuntu 22.04.2 LTS) / x86_64 | ERROR | ||||||
| palomino3 | Windows Server 2022 Datacenter / x64 | ERROR | |||||||
| merida1 | macOS 12.6.4 Monterey / x86_64 | ERROR | |||||||
| Package 3/31 | Hostname | OS / Arch | CHECK | ||||||
| basilisk 1.12.1 (landing page) Aaron Lun
| nebbiolo1 | Linux (Ubuntu 22.04.2 LTS) / x86_64 | WARNINGS | ||||||
| palomino3 | Windows Server 2022 Datacenter / x64 | WARNINGS | |||||||
| merida1 | macOS 12.6.4 Monterey / x86_64 | WARNINGS | |||||||
| Package 4/31 | Hostname | OS / Arch | CHECK | ||||||
| beachmat 2.16.0 (landing page) Aaron Lun
| nebbiolo1 | Linux (Ubuntu 22.04.2 LTS) / x86_64 | ERROR | ||||||
| palomino3 | Windows Server 2022 Datacenter / x64 | ERROR | |||||||
| merida1 | macOS 12.6.4 Monterey / x86_64 | ERROR | |||||||
| Package 5/31 | Hostname | OS / Arch | CHECK | ||||||
| biodb 1.8.1 (landing page) Pierrick Roger
| nebbiolo1 | Linux (Ubuntu 22.04.2 LTS) / x86_64 | WARNINGS | ||||||
| palomino3 | Windows Server 2022 Datacenter / x64 | ERROR | |||||||
| merida1 | macOS 12.6.4 Monterey / x86_64 | OK | |||||||
| Package 6/31 | Hostname | OS / Arch | CHECK | ||||||
| biodbChebi 1.6.0 (landing page) Pierrick Roger
| nebbiolo1 | Linux (Ubuntu 22.04.2 LTS) / x86_64 | OK | ||||||
| palomino3 | Windows Server 2022 Datacenter / x64 | OK | |||||||
| merida1 | macOS 12.6.4 Monterey / x86_64 | OK | |||||||
| Package 7/31 | Hostname | OS / Arch | CHECK | ||||||
| biodbExpasy 1.4.0 (landing page) Pierrick Roger
| nebbiolo1 | Linux (Ubuntu 22.04.2 LTS) / x86_64 | OK | ||||||
| palomino3 | Windows Server 2022 Datacenter / x64 | OK | |||||||
| merida1 | macOS 12.6.4 Monterey / x86_64 | OK | |||||||
| Package 8/31 | Hostname | OS / Arch | CHECK | ||||||
| biodbHmdb 1.6.1 (landing page) Pierrick Roger
| nebbiolo1 | Linux (Ubuntu 22.04.2 LTS) / x86_64 | WARNINGS | ||||||
| palomino3 | Windows Server 2022 Datacenter / x64 | WARNINGS | |||||||
| merida1 | macOS 12.6.4 Monterey / x86_64 | WARNINGS | |||||||
| Package 9/31 | Hostname | OS / Arch | CHECK | ||||||
| biodbKegg 1.6.1 (landing page) Pierrick Roger
| nebbiolo1 | Linux (Ubuntu 22.04.2 LTS) / x86_64 | ERROR | ||||||
| palomino3 | Windows Server 2022 Datacenter / x64 | ERROR | |||||||
| merida1 | macOS 12.6.4 Monterey / x86_64 | ERROR | |||||||
| Package 10/31 | Hostname | OS / Arch | CHECK | ||||||
| biodbLipidmaps 1.6.0 (landing page) Pierrick Roger
| nebbiolo1 | Linux (Ubuntu 22.04.2 LTS) / x86_64 | OK | ||||||
| palomino3 | Windows Server 2022 Datacenter / x64 | OK | |||||||
| merida1 | macOS 12.6.4 Monterey / x86_64 | OK | |||||||
| Package 11/31 | Hostname | OS / Arch | CHECK | ||||||
| biodbMirbase 1.4.1 (landing page) Pierrick Roger
| nebbiolo1 | Linux (Ubuntu 22.04.2 LTS) / x86_64 | ERROR | ||||||
| palomino3 | Windows Server 2022 Datacenter / x64 | ERROR | |||||||
| merida1 | macOS 12.6.4 Monterey / x86_64 | ERROR | |||||||
| Package 12/31 | Hostname | OS / Arch | CHECK | ||||||
| biodbNcbi 1.4.0 (landing page) Pierrick Roger
| nebbiolo1 | Linux (Ubuntu 22.04.2 LTS) / x86_64 | ERROR | ||||||
| palomino3 | Windows Server 2022 Datacenter / x64 | WARNINGS | |||||||
| merida1 | macOS 12.6.4 Monterey / x86_64 | WARNINGS | |||||||
| Package 13/31 | Hostname | OS / Arch | CHECK | ||||||
| biodbNci 1.4.0 (landing page) Pierrick Roger
| nebbiolo1 | Linux (Ubuntu 22.04.2 LTS) / x86_64 | OK | ||||||
| palomino3 | Windows Server 2022 Datacenter / x64 | OK | |||||||
| merida1 | macOS 12.6.4 Monterey / x86_64 | OK | |||||||
| Package 14/31 | Hostname | OS / Arch | CHECK | ||||||
| biodbUniprot 1.6.0 (landing page) Pierrick Roger
| nebbiolo1 | Linux (Ubuntu 22.04.2 LTS) / x86_64 | OK | ||||||
| palomino3 | Windows Server 2022 Datacenter / x64 | OK | |||||||
| merida1 | macOS 12.6.4 Monterey / x86_64 | OK | |||||||
| Package 15/31 | Hostname | OS / Arch | CHECK | ||||||
| cBioPortalData 2.12.0 (landing page) Marcel Ramos
| nebbiolo1 | Linux (Ubuntu 22.04.2 LTS) / x86_64 | OK | ||||||
| palomino3 | Windows Server 2022 Datacenter / x64 | OK | |||||||
| merida1 | macOS 12.6.4 Monterey / x86_64 | ERROR | |||||||
| Package 16/31 | Hostname | OS / Arch | CHECK | ||||||
| ChromSCape 1.10.0 (landing page) Pacome Prompsy
| nebbiolo1 | Linux (Ubuntu 22.04.2 LTS) / x86_64 | ERROR | ||||||
| palomino3 | Windows Server 2022 Datacenter / x64 | ERROR | |||||||
| merida1 | macOS 12.6.4 Monterey / x86_64 | ERROR | |||||||
| Package 17/31 | Hostname | OS / Arch | CHECK | ||||||
| clusterExperiment 2.20.0 (landing page) Elizabeth Purdom
| nebbiolo1 | Linux (Ubuntu 22.04.2 LTS) / x86_64 | ERROR | ||||||
| palomino3 | Windows Server 2022 Datacenter / x64 | ERROR | |||||||
| merida1 | macOS 12.6.4 Monterey / x86_64 | ERROR | |||||||
| Package 18/31 | Hostname | OS / Arch | CHECK | ||||||
| crisprScore 1.4.0 (landing page) Jean-Philippe Fortin
| nebbiolo1 | Linux (Ubuntu 22.04.2 LTS) / x86_64 | OK | ||||||
| palomino3 | Windows Server 2022 Datacenter / x64 | OK | |||||||
| merida1 | macOS 12.6.4 Monterey / x86_64 | OK | |||||||
| Package 19/31 | Hostname | OS / Arch | CHECK | ||||||
| DelayedMatrixStats 1.22.6 (landing page) Peter Hickey
| nebbiolo1 | Linux (Ubuntu 22.04.2 LTS) / x86_64 | WARNINGS | ||||||
| palomino3 | Windows Server 2022 Datacenter / x64 | WARNINGS | |||||||
| merida1 | macOS 12.6.4 Monterey / x86_64 | WARNINGS | |||||||
| Package 20/31 | Hostname | OS / Arch | CHECK | ||||||
| DropletUtils 1.20.0 (landing page) Jonathan Griffiths
| nebbiolo1 | Linux (Ubuntu 22.04.2 LTS) / x86_64 | OK | ||||||
| palomino3 | Windows Server 2022 Datacenter / x64 | OK | |||||||
| merida1 | macOS 12.6.4 Monterey / x86_64 | OK | |||||||
| Package 21/31 | Hostname | OS / Arch | CHECK | ||||||
| EpiMix 1.2.4 (landing page) Yuanning Zheng
| nebbiolo1 | Linux (Ubuntu 22.04.2 LTS) / x86_64 | OK | ||||||
| palomino3 | Windows Server 2022 Datacenter / x64 | OK | |||||||
| merida1 | macOS 12.6.4 Monterey / x86_64 | OK | |||||||
| Package 22/31 | Hostname | OS / Arch | CHECK | ||||||
| extraChIPs 1.4.6 (landing page) Stephen Pederson
| nebbiolo1 | Linux (Ubuntu 22.04.2 LTS) / x86_64 | OK | ||||||
| palomino3 | Windows Server 2022 Datacenter / x64 | OK | |||||||
| merida1 | macOS 12.6.4 Monterey / x86_64 | OK | |||||||
| Package 23/31 | Hostname | OS / Arch | CHECK | ||||||
| GenomicFeatures 1.52.2 (landing page) H. Pagès
| nebbiolo1 | Linux (Ubuntu 22.04.2 LTS) / x86_64 | WARNINGS | ||||||
| palomino3 | Windows Server 2022 Datacenter / x64 | WARNINGS | |||||||
| merida1 | macOS 12.6.4 Monterey / x86_64 | WARNINGS | |||||||
| Package 24/31 | Hostname | OS / Arch | CHECK | ||||||
| HDF5Array 1.28.1 (landing page) Hervé Pagès
| nebbiolo1 | Linux (Ubuntu 22.04.2 LTS) / x86_64 | ERROR | ||||||
| palomino3 | Windows Server 2022 Datacenter / x64 | ERROR | |||||||
| merida1 | macOS 12.6.4 Monterey / x86_64 | ERROR | |||||||
| Package 25/31 | Hostname | OS / Arch | CHECK | ||||||
| imcRtools 1.6.5 (landing page) Nils Eling
| nebbiolo1 | Linux (Ubuntu 22.04.2 LTS) / x86_64 | OK | ||||||
| palomino3 | Windows Server 2022 Datacenter / x64 | OK | |||||||
| merida1 | macOS 12.6.4 Monterey / x86_64 | OK | |||||||
| Package 26/31 | Hostname | OS / Arch | CHECK | ||||||
| midasHLA 1.8.0 (landing page) Maciej Migdał
| nebbiolo1 | Linux (Ubuntu 22.04.2 LTS) / x86_64 | ERROR | ||||||
| palomino3 | Windows Server 2022 Datacenter / x64 | ERROR | |||||||
| merida1 | macOS 12.6.4 Monterey / x86_64 | ERROR | |||||||
| Package 27/31 | Hostname | OS / Arch | CHECK | ||||||
| rhdf5 2.44.0 (landing page) Mike Smith
| nebbiolo1 | Linux (Ubuntu 22.04.2 LTS) / x86_64 | ERROR | ||||||
| palomino3 | Windows Server 2022 Datacenter / x64 | ERROR | |||||||
| merida1 | macOS 12.6.4 Monterey / x86_64 | ERROR | |||||||
| Package 28/31 | Hostname | OS / Arch | CHECK | ||||||
| SimBu 1.2.0 (landing page) Alexander Dietrich
| nebbiolo1 | Linux (Ubuntu 22.04.2 LTS) / x86_64 | ERROR | ||||||
| palomino3 | Windows Server 2022 Datacenter / x64 | ERROR | |||||||
| merida1 | macOS 12.6.4 Monterey / x86_64 | ERROR | |||||||
| Package 29/31 | Hostname | OS / Arch | CHECK | ||||||
| TENxIO 1.2.0 (landing page) Marcel Ramos
| nebbiolo1 | Linux (Ubuntu 22.04.2 LTS) / x86_64 | OK | ||||||
| palomino3 | Windows Server 2022 Datacenter / x64 | OK | |||||||
| merida1 | macOS 12.6.4 Monterey / x86_64 | ERROR | |||||||
| Package 30/31 | Hostname | OS / Arch | CHECK | ||||||
| xcms 3.22.0 (landing page) Steffen Neumann
| nebbiolo1 | Linux (Ubuntu 22.04.2 LTS) / x86_64 | OK | ||||||
| palomino3 | Windows Server 2022 Datacenter / x64 | OK | |||||||
| merida1 | macOS 12.6.4 Monterey / x86_64 | OK | |||||||
| Package 31/31 | Hostname | OS / Arch | CHECK | ||||||
| zellkonverter 1.10.1 (landing page) Luke Zappia
| nebbiolo1 | Linux (Ubuntu 22.04.2 LTS) / x86_64 | OK | ||||||
| palomino3 | Windows Server 2022 Datacenter / x64 | ERROR | |||||||
| merida1 | macOS 12.6.4 Monterey / x86_64 | OK | |||||||