Package: biodbUniprot Version: 1.6.0 Command: /Library/Frameworks/R.framework/Resources/bin/R CMD build --keep-empty-dirs --no-resave-data --no-build-vignettes --no-manual biodbUniprot StartedAt: 2023-10-14 11:01:01 -0400 (Sat, 14 Oct 2023) EndedAt: 2023-10-14 11:01:38 -0400 (Sat, 14 Oct 2023) EllapsedTime: 36.9 seconds RetCode: 0 Status: OK PackageFile: biodbUniprot_1.6.0.tar.gz PackageFileSize: 120.3 KiB