Package: biodbLipidmaps Version: 1.6.0 Command: F:\biocbuild\bbs-3.17-bioc\R\bin\R.exe CMD check --no-multiarch --test-dir=longtests --no-stop-on-test-error --no-codoc --no-examples --no-manual --ignore-vignettes --check-subdirs=no biodbLipidmaps_1.6.0.tar.gz StartedAt: 2023-10-14 11:06:33 -0400 (Sat, 14 Oct 2023) EndedAt: 2023-10-14 11:09:46 -0400 (Sat, 14 Oct 2023) EllapsedTime: 193.5 seconds RetCode: 0 Status: OK CheckDir: biodbLipidmaps.Rcheck Warnings: 0