Package: SimBu Version: 1.2.0 Command: F:\biocbuild\bbs-3.17-bioc\R\bin\R.exe CMD check --no-multiarch --test-dir=longtests --no-stop-on-test-error --no-codoc --no-examples --no-manual --ignore-vignettes --check-subdirs=no SimBu_1.2.0.tar.gz StartedAt: 2023-10-14 11:25:42 -0400 (Sat, 14 Oct 2023) EndedAt: 2023-10-14 11:27:21 -0400 (Sat, 14 Oct 2023) EllapsedTime: 99.1 seconds RetCode: 1 Status: ERROR CheckDir: SimBu.Rcheck Warnings: NA