Package: zinbwave Version: 1.22.0 Command: /home/biocbuild/bbs-3.17-bioc/R/bin/R CMD check --install=check:zinbwave.install-out.txt --library=/home/biocbuild/bbs-3.17-bioc/R/site-library --timings zinbwave_1.22.0.tar.gz StartedAt: 2023-10-16 02:11:42 -0400 (Mon, 16 Oct 2023) EndedAt: 2023-10-16 02:17:51 -0400 (Mon, 16 Oct 2023) EllapsedTime: 369.2 seconds RetCode: 0 Status: OK CheckDir: zinbwave.Rcheck Warnings: 0