Package: zinbwave Version: 1.22.0 Command: /home/biocbuild/bbs-3.17-bioc/R/bin/R CMD build --keep-empty-dirs --no-resave-data zinbwave StartedAt: 2023-10-15 18:58:09 -0400 (Sun, 15 Oct 2023) EndedAt: 2023-10-15 19:00:15 -0400 (Sun, 15 Oct 2023) EllapsedTime: 125.4 seconds RetCode: 0 Status: OK PackageFile: zinbwave_1.22.0.tar.gz PackageFileSize: 466.1 KiB