Package: zinbwave Version: 1.22.0 Command: rm -rf zinbwave.buildbin-libdir && mkdir zinbwave.buildbin-libdir && /Users/biocbuild/BBS/utils/build-universal.sh zinbwave_1.22.0.tar.gz /Library/Frameworks/R.framework/Resources/bin/R zinbwave.buildbin-libdir StartedAt: 2023-10-16 10:25:50 -0400 (Mon, 16 Oct 2023) EndedAt: 2023-10-16 10:27:01 -0400 (Mon, 16 Oct 2023) EllapsedTime: 70.4 seconds RetCode: 0 Status: OK PackageFile: zinbwave_1.22.0.tgz PackageFileSize: 938.5 KiB