Package: zellkonverter Version: 1.10.1 Command: rm -rf zellkonverter.buildbin-libdir && mkdir zellkonverter.buildbin-libdir && F:\biocbuild\bbs-3.17-bioc\R\bin\R.exe CMD INSTALL --build --library=zellkonverter.buildbin-libdir zellkonverter_1.10.1.tar.gz StartedAt: 2023-10-16 09:43:33 -0400 (Mon, 16 Oct 2023) EndedAt: 2023-10-16 09:44:06 -0400 (Mon, 16 Oct 2023) EllapsedTime: 33.1 seconds RetCode: 0 Status: OK PackageFile: zellkonverter_1.10.1.zip PackageFileSize: 1.201 MiB