Package: zellkonverter Version: 1.10.1 Command: /home/biocbuild/bbs-3.17-bioc/R/bin/R CMD check --install=check:zellkonverter.install-out.txt --library=/home/biocbuild/bbs-3.17-bioc/R/site-library --timings zellkonverter_1.10.1.tar.gz StartedAt: 2023-10-16 02:11:13 -0400 (Mon, 16 Oct 2023) EndedAt: 2023-10-16 02:21:19 -0400 (Mon, 16 Oct 2023) EllapsedTime: 606.0 seconds RetCode: 0 Status: OK CheckDir: zellkonverter.Rcheck Warnings: 0