Package: zellkonverter Version: 1.10.1 Command: /Library/Frameworks/R.framework/Resources/bin/R CMD INSTALL zellkonverter StartedAt: 2023-10-15 15:16:45 -0400 (Sun, 15 Oct 2023) EndedAt: 2023-10-15 15:17:44 -0400 (Sun, 15 Oct 2023) EllapsedTime: 58.4 seconds RetCode: 0 Status: OK