Package: zellkonverter Version: 1.10.1 Command: /Library/Frameworks/R.framework/Resources/bin/R CMD check --install=check:zellkonverter.install-out.txt --library=/Library/Frameworks/R.framework/Resources/library --no-vignettes --timings zellkonverter_1.10.1.tar.gz StartedAt: 2023-10-16 08:37:42 -0400 (Mon, 16 Oct 2023) EndedAt: 2023-10-16 08:48:49 -0400 (Mon, 16 Oct 2023) EllapsedTime: 666.5 seconds RetCode: 0 Status: OK CheckDir: zellkonverter.Rcheck Warnings: 0