Package: zellkonverter Version: 1.10.1 Command: /Library/Frameworks/R.framework/Resources/bin/R CMD build --keep-empty-dirs --no-resave-data zellkonverter StartedAt: 2023-10-15 22:10:37 -0400 (Sun, 15 Oct 2023) EndedAt: 2023-10-15 22:12:58 -0400 (Sun, 15 Oct 2023) EllapsedTime: 140.2 seconds RetCode: 0 Status: OK PackageFile: zellkonverter_1.10.1.tar.gz PackageFileSize: 1.126 MiB