Package: waddR Version: 1.14.0 Command: /home/biocbuild/bbs-3.17-bioc/R/bin/R CMD build --keep-empty-dirs --no-resave-data waddR StartedAt: 2023-10-15 18:55:54 -0400 (Sun, 15 Oct 2023) EndedAt: 2023-10-15 18:57:41 -0400 (Sun, 15 Oct 2023) EllapsedTime: 107.0 seconds RetCode: 0 Status: OK PackageFile: waddR_1.14.0.tar.gz PackageFileSize: 151.9 KiB