Package: waddR Version: 1.14.0 Command: /Library/Frameworks/R.framework/Resources/bin/R CMD INSTALL waddR StartedAt: 2023-10-15 15:52:50 -0400 (Sun, 15 Oct 2023) EndedAt: 2023-10-15 15:55:15 -0400 (Sun, 15 Oct 2023) EllapsedTime: 145.2 seconds RetCode: 0 Status: OK