Package: vtpnet Version: 0.40.0 Command: /home/biocbuild/bbs-3.17-bioc/R/bin/R CMD build --keep-empty-dirs --no-resave-data vtpnet StartedAt: 2023-10-15 18:55:43 -0400 (Sun, 15 Oct 2023) EndedAt: 2023-10-15 18:57:08 -0400 (Sun, 15 Oct 2023) EllapsedTime: 85.1 seconds RetCode: 0 Status: OK PackageFile: vtpnet_0.40.0.tar.gz PackageFileSize: 20.11 MiB