Package: viper Version: 1.34.0 Command: chmod a+r viper -R && F:\biocbuild\bbs-3.17-bioc\R\bin\R.exe CMD build --keep-empty-dirs --no-resave-data viper StartedAt: 2023-10-15 23:03:36 -0400 (Sun, 15 Oct 2023) EndedAt: 2023-10-15 23:07:38 -0400 (Sun, 15 Oct 2023) EllapsedTime: 241.8 seconds RetCode: 0 Status: OK PackageFile: viper_1.34.0.tar.gz PackageFileSize: 314.3 KiB