Package: viper Version: 1.34.0 Command: rm -rf viper.buildbin-libdir && mkdir viper.buildbin-libdir && /Users/biocbuild/BBS/utils/build-universal.sh viper_1.34.0.tar.gz /Library/Frameworks/R.framework/Resources/bin/R viper.buildbin-libdir StartedAt: 2023-10-16 10:24:34 -0400 (Mon, 16 Oct 2023) EndedAt: 2023-10-16 10:25:21 -0400 (Mon, 16 Oct 2023) EllapsedTime: 47.7 seconds RetCode: 0 Status: OK PackageFile: viper_1.34.0.tgz PackageFileSize: 759.8 KiB