Package: uncoverappLib Version: 1.10.0 Command: rm -rf uncoverappLib.buildbin-libdir && mkdir uncoverappLib.buildbin-libdir && F:\biocbuild\bbs-3.17-bioc\R\bin\R.exe CMD INSTALL --build --library=uncoverappLib.buildbin-libdir uncoverappLib_1.10.0.tar.gz StartedAt: 2023-10-16 09:41:31 -0400 (Mon, 16 Oct 2023) EndedAt: 2023-10-16 09:42:46 -0400 (Mon, 16 Oct 2023) EllapsedTime: 75.0 seconds RetCode: 0 Status: OK PackageFile: uncoverappLib_1.10.0.zip PackageFileSize: 2.841 MiB