Package: uSORT Version: 1.26.0 Command: /Library/Frameworks/R.framework/Resources/bin/R CMD INSTALL uSORT StartedAt: 2023-10-15 15:12:58 -0400 (Sun, 15 Oct 2023) EndedAt: 2023-10-15 15:14:00 -0400 (Sun, 15 Oct 2023) EllapsedTime: 61.5 seconds RetCode: 0 Status: OK