Package: uSORT Version: 1.26.0 Command: /Library/Frameworks/R.framework/Resources/bin/R CMD build --keep-empty-dirs --no-resave-data uSORT StartedAt: 2023-10-15 22:02:32 -0400 (Sun, 15 Oct 2023) EndedAt: 2023-10-15 22:03:35 -0400 (Sun, 15 Oct 2023) EllapsedTime: 62.7 seconds RetCode: 0 Status: OK PackageFile: uSORT_1.26.0.tar.gz PackageFileSize: 2.814 MiB