Package: tximeta Version: 1.18.3 Command: /home/biocbuild/bbs-3.17-bioc/R/bin/R CMD build --keep-empty-dirs --no-resave-data tximeta StartedAt: 2023-10-15 18:52:38 -0400 (Sun, 15 Oct 2023) EndedAt: 2023-10-15 18:54:12 -0400 (Sun, 15 Oct 2023) EllapsedTime: 94.2 seconds RetCode: 0 Status: OK PackageFile: tximeta_1.18.3.tar.gz PackageFileSize: 1002 KiB