Package: txcutr Version: 1.6.0 Command: F:\biocbuild\bbs-3.17-bioc\R\bin\R.exe CMD check --no-multiarch --install=check:txcutr.install-out.txt --library=F:\biocbuild\bbs-3.17-bioc\R\library --no-vignettes --timings txcutr_1.6.0.tar.gz StartedAt: 2023-10-16 07:53:19 -0400 (Mon, 16 Oct 2023) EndedAt: 2023-10-16 08:17:55 -0400 (Mon, 16 Oct 2023) EllapsedTime: 1476.1 seconds RetCode: 0 Status: OK CheckDir: txcutr.Rcheck Warnings: 0