Package: twoddpcr Version: 1.24.0 Command: F:\biocbuild\bbs-3.17-bioc\R\bin\R.exe CMD INSTALL twoddpcr StartedAt: 2023-10-15 16:32:48 -0400 (Sun, 15 Oct 2023) EndedAt: 2023-10-15 16:33:13 -0400 (Sun, 15 Oct 2023) EllapsedTime: 24.5 seconds RetCode: 0 Status: OK