Package: tscR Version: 1.12.0 Command: /home/biocbuild/bbs-3.17-bioc/R/bin/R CMD build --keep-empty-dirs --no-resave-data tscR StartedAt: 2023-10-15 18:52:03 -0400 (Sun, 15 Oct 2023) EndedAt: 2023-10-15 18:52:04 -0400 (Sun, 15 Oct 2023) EllapsedTime: 1.0 seconds RetCode: 1 Status: ERROR PackageFile: None PackageFileSize: NA