Package: trigger Version: 1.46.0 Command: /Library/Frameworks/R.framework/Resources/bin/R CMD build --keep-empty-dirs --no-resave-data trigger StartedAt: 2023-10-15 21:59:01 -0400 (Sun, 15 Oct 2023) EndedAt: 2023-10-15 22:04:13 -0400 (Sun, 15 Oct 2023) EllapsedTime: 311.3 seconds RetCode: 0 Status: OK PackageFile: trigger_1.46.0.tar.gz PackageFileSize: 1.839 MiB