Package: traviz Version: 1.6.0 Command: /Library/Frameworks/R.framework/Resources/bin/R CMD INSTALL traviz StartedAt: 2023-10-15 15:45:09 -0400 (Sun, 15 Oct 2023) EndedAt: 2023-10-15 15:46:38 -0400 (Sun, 15 Oct 2023) EllapsedTime: 89.9 seconds RetCode: 0 Status: OK