Package: trackViewer Version: 1.36.2 Command: /home/biocbuild/bbs-3.17-bioc/R/bin/R CMD check --install=check:trackViewer.install-out.txt --library=/home/biocbuild/bbs-3.17-bioc/R/site-library --timings trackViewer_1.36.2.tar.gz StartedAt: 2023-10-16 01:49:47 -0400 (Mon, 16 Oct 2023) EndedAt: 2023-10-16 02:09:23 -0400 (Mon, 16 Oct 2023) EllapsedTime: 1176.4 seconds RetCode: 0 Status: OK CheckDir: trackViewer.Rcheck Warnings: 0