Package: topconfects Version: 1.16.0 Command: /home/biocbuild/bbs-3.17-bioc/R/bin/R CMD INSTALL topconfects StartedAt: 2023-10-15 15:13:47 -0400 (Sun, 15 Oct 2023) EndedAt: 2023-10-15 15:13:51 -0400 (Sun, 15 Oct 2023) EllapsedTime: 4.8 seconds RetCode: 0 Status: OK