Package: topconfects Version: 1.16.0 Command: /home/biocbuild/bbs-3.17-bioc/R/bin/R CMD build --keep-empty-dirs --no-resave-data topconfects StartedAt: 2023-10-15 18:49:36 -0400 (Sun, 15 Oct 2023) EndedAt: 2023-10-15 18:51:23 -0400 (Sun, 15 Oct 2023) EllapsedTime: 107.6 seconds RetCode: 0 Status: OK PackageFile: topconfects_1.16.0.tar.gz PackageFileSize: 1.646 MiB