Package: tomoda Version: 1.10.0 Command: /Library/Frameworks/R.framework/Resources/bin/R CMD check --install=check:tomoda.install-out.txt --library=/Library/Frameworks/R.framework/Resources/library --no-vignettes --timings tomoda_1.10.0.tar.gz StartedAt: 2023-10-16 08:07:09 -0400 (Mon, 16 Oct 2023) EndedAt: 2023-10-16 08:24:43 -0400 (Mon, 16 Oct 2023) EllapsedTime: 1054.6 seconds RetCode: 0 Status: OK CheckDir: tomoda.Rcheck Warnings: 0