Package: tomoda Version: 1.10.0 Command: rm -rf tomoda.buildbin-libdir && mkdir tomoda.buildbin-libdir && /Users/biocbuild/BBS/utils/build-universal.sh tomoda_1.10.0.tar.gz /Library/Frameworks/R.framework/Resources/bin/R tomoda.buildbin-libdir StartedAt: 2023-10-16 10:21:54 -0400 (Mon, 16 Oct 2023) EndedAt: 2023-10-16 10:23:07 -0400 (Mon, 16 Oct 2023) EllapsedTime: 73.1 seconds RetCode: 0 Status: OK PackageFile: tomoda_1.10.0.tgz PackageFileSize: 2.787 MiB