Package: timescape Version: 1.24.0 Command: F:\biocbuild\bbs-3.17-bioc\R\bin\R.exe CMD INSTALL timescape StartedAt: 2023-10-15 16:29:51 -0400 (Sun, 15 Oct 2023) EndedAt: 2023-10-15 16:29:56 -0400 (Sun, 15 Oct 2023) EllapsedTime: 5.7 seconds RetCode: 0 Status: OK